Workbook

Sheet Instructions
A5: GUIDE 3
A7: Tool 2: Weekly record of income and expenses.
A8: Instructions
A10: 1. Each excel sheet corresponds to one week
A11: 2. Fill in the cells with all the income and expenses you incur for the business once it is done.
A12: 3. In column B, insert the object of the expense. In column D and E, the figures.
A13: 4. if it is an expense for the company from any source (fixed or variable), it should be inserted in column E.

Sheet Week 1
A5: GUIDE 3
A7: Tool 2: Weekly record of income and expenses.
A8: WEEK 1
A10: N° | B10: Description | C10: Date (dd/mm/yy) | D10: Income | E10: Expense
A11: 1
A12: =A11+1 -> 2
A13: =A12+1 -> 3
A14: =A13+1 -> 4
A15: =A14+1 -> 5
A16: =A15+1 -> 6
A17: =A16+1 -> 7
A18: =A17+1 -> 8
A19: =A18+1 -> 9
A20: =A19+1 -> 10
A21: =A20+1 -> 11
A22: =A21+1 -> 12
A23: =A22+1 -> 13
... A41: =A40+1 -> 31
A42: Total | D42: =SUM(D11:D41) -> 0 | E42: =SUM(E11:E41) -> 0

Sheet Week 2
A5: GUIDE 3
A7: Tool 2: Weekly record of income and expenses.
A8: WEEK 2
A10: N° | B10: Description | C10: Date (dd/mm/yy) | D10: Income | E10: Expense
A11: 1
A12: =A11+1 -> 2
A13: =A12+1 -> 3
A14: =A13+1 -> 4
A15: =A14+1 -> 5
A16: =A15+1 -> 6
A17: =A16+1 -> 7
A18: =A17+1 -> 8
A19: =A18+1 -> 9
A20: =A19+1 -> 10
A21: =A20+1 -> 11
A22: =A21+1 -> 12
A23: =A22+1 -> 13
... A41: =A40+1 -> 31
A42: Total | D42: =SUM(D11:D41) -> 0 | E42: =SUM(E11:E41) -> 0

Sheet Week 3
A5: GUIDE 3
A7: Tool 2: Weekly record of income and expenses.
A8: WEEK 3
A10: N° | B10: Description | C10: Date (dd/mm/yy) | D10: Income | E10: Expense
A11: 1
A12: =A11+1 -> 2
A13: =A12+1 -> 3
A14: =A13+1 -> 4
A15: =A14+1 -> 5
A16: =A15+1 -> 6
A17: =A16+1 -> 7
A18: =A17+1 -> 8
A19: =A18+1 -> 9
A20: =A19+1 -> 10
A21: =A20+1 -> 11
A22: =A21+1 -> 12
A23: =A22+1 -> 13
... A41: =A40+1 -> 31
A42: Total | D42: =SUM(D11:D41) -> 0 | E42: =SUM(E11:E41) -> 0

Sheet Week 4
A5: GUIDE 3
A6: Tool 2: Weekly record of income and expenses.
A7: WEEK 4
A9: N° | B9: Description | C9: Date (dd/mm/yy) | D9: Income | E9: Expense
A10: 1
A11: =A10+1 -> 2
A12: =A11+1 -> 3
A13: =A12+1 -> 4
A14: =A13+1 -> 5
A15: =A14+1 -> 6
A16: =A15+1 -> 7
A17: =A16+1 -> 8
A18: =A17+1 -> 9
A19: =A18+1 -> 10
A20: =A19+1 -> 11
A21: =A20+1 -> 12
A22: =A21+1 -> 13
... A40: =A39+1 -> 31
A41: Total | D41: =SUM(D10:D40) -> 0 | E41: =SUM(E10:E40) -> 0

Sheet Week 5
A5: GUIDE 3
A7: Tool 2: Weekly record of income and expenses.
A8: WEEK 5
A10: N° | B10: Description | C10: Date (dd/mm/yy) | D10: Income | E10: Expense
A11: 1
A12: =A11+1 -> 2
A13: =A12+1 -> 3
A14: =A13+1 -> 4
A15: =A14+1 -> 5
A16: =A15+1 -> 6
A17: =A16+1 -> 7
A18: =A17+1 -> 8
A19: =A18+1 -> 9
A20: =A19+1 -> 10
A21: =A20+1 -> 11
A22: =A21+1 -> 12
A23: =A22+1 -> 13
... A41: =A40+1 -> 31
A42: Total | D42: =SUM(D11:D41) -> 0 | E42: =SUM(E11:E41) -> 0

Sheet Balance of the weeks
A4: GUIDE 3
A6: Tool 2: Weekly record of income and expenses.
A8: N° | B8: Description | C8: Income | D8: Expense
A9: 1 | B9: Week 1 | C9: =+'Week 1'!D42 -> 0 | D9: =+'Week 1'!E42 -> 0
A10: =A9+1 -> 2 | B10: Week 2 | C10: =+'Week 2'!D42 -> 0 | D10: =+'Week 2'!E42 -> 0
A11: =A10+1 -> 3 | B11: Week 3 | C11: =+'Week 3'!D42 -> 0 | D11: =+'Week 3'!E42 -> 0
A12: =A11+1 -> 4 | B12: Week 4 | C12: =+'Week 4'!D41 -> 0 | D12: =+'Week 4'!E41 -> 0
A13: =A12+1 -> 5 | B13: Week 5 | C13: =+'Week 5'!D42 -> 0 | D13: =+'Week 5'!E42 -> 0
A14: Total | C14: =SUM(C9:C13) -> 0 | D14: =SUM(D9:D13) -> 0
A16: Difference of Income and Expeneses | D16: =C14-D14 -> 0
